BEGIN:VCALENDAR
VERSION:2.0
PRODID:-//OVCTA - ECPv6.15.17.1//NONSGML v1.0//EN
CALSCALE:GREGORIAN
METHOD:PUBLISH
X-WR-CALNAME:OVCTA
X-ORIGINAL-URL:https://ovcta.org
X-WR-CALDESC:Events for OVCTA
REFRESH-INTERVAL;VALUE=DURATION:PT1H
X-Robots-Tag:noindex
X-PUBLISHED-TTL:PT1H
BEGIN:VTIMEZONE
TZID:America/New_York
BEGIN:DAYLIGHT
TZOFFSETFROM:-0500
TZOFFSETTO:-0400
TZNAME:EDT
DTSTART:20250309T070000
END:DAYLIGHT
BEGIN:STANDARD
TZOFFSETFROM:-0400
TZOFFSETTO:-0500
TZNAME:EST
DTSTART:20251102T060000
END:STANDARD
BEGIN:DAYLIGHT
TZOFFSETFROM:-0500
TZOFFSETTO:-0400
TZNAME:EDT
DTSTART:20260308T070000
END:DAYLIGHT
BEGIN:STANDARD
TZOFFSETFROM:-0400
TZOFFSETTO:-0500
TZNAME:EST
DTSTART:20261101T060000
END:STANDARD
BEGIN:DAYLIGHT
TZOFFSETFROM:-0500
TZOFFSETTO:-0400
TZNAME:EDT
DTSTART:20270314T070000
END:DAYLIGHT
BEGIN:STANDARD
TZOFFSETFROM:-0400
TZOFFSETTO:-0500
TZNAME:EST
DTSTART:20271107T060000
END:STANDARD
END:VTIMEZONE
BEGIN:VEVENT
DTSTART;TZID=America/New_York:20260523T000000
DTEND;TZID=America/New_York:20260523T235959
DTSTAMP:20260423T085101
CREATED:20251220T214959Z
LAST-MODIFIED:20251220T215001Z
UID:2288-1779494400-1779580799@ovcta.org
SUMMARY:Schooling at Ludwig's Corner
DESCRIPTION:Schooling at Ludwig’s Corner\n\n\n\n\n\n\n\n\n\n\n\n\n\n\nLudwig’s Corner Schooling – May 23\, 2026\n\n\n\nBack by popular demand! Are you ready to go to Ludwig’s Corner? Come and practice your test\, get the lay of the land\, see the showgrounds from the riders’ point of view. OVCTA is offering the opportunity to ride at Ludwig’s Corner show grounds the day before the Recognized show.  \n\n\n\n\nMore details will be posted on the OVCTA Spring Dressage Show page when they become available.
URL:https://ovcta.org/event/schooling-at-ludwigs-corner/
LOCATION:Ludwig’s Corner\, 1325 Pottstown Pike\, Glenmoore\, Pennsylvania\, 19343\, United States
END:VEVENT
BEGIN:VEVENT
DTSTART;TZID=America/New_York:20260524T000000
DTEND;TZID=America/New_York:20260524T235959
DTSTAMP:20260423T085101
CREATED:20251220T215337Z
LAST-MODIFIED:20260304T195248Z
UID:2292-1779580800-1779667199@ovcta.org
SUMMARY:OVCTA Spring Dressage Show
DESCRIPTION:OVCTA Spring Dressage Show\n\n\n\n\n\n\n\n\n\nSchooling at Ludwig’s Corner will be held May 23\, 2026.\n\n\n\n\n\n\n\n\n\n\nOVCTA Spring Dressage Show\n\n\n\nMay 24\, 2026\n\n\n\n\n\n\n\n\n\n\n			\n				\n			\n		\n\n\n\nLocation: Ludwig’s Corner Horse Show Grounds\, 1325 Pottstown Pike\, Glenmoore\, PA \n\n\n\n\n\nSee the OVCTA Spring Dressage Show page for more information!!
URL:https://ovcta.org/event/2292/
LOCATION:Ludwig’s Corner\, 1325 Pottstown Pike\, Glenmoore\, Pennsylvania\, 19343\, United States
CATEGORIES:OVCTA Event
END:VEVENT
END:VCALENDAR